BEGIN:VCALENDAR
VERSION:2.0
PRODID:-//INVERSE - ECPv6.9.0//NONSGML v1.0//EN
CALSCALE:GREGORIAN
METHOD:PUBLISH
X-ORIGINAL-URL:https://www.inverse-project.org
X-WR-CALDESC:Events for INVERSE
REFRESH-INTERVAL;VALUE=DURATION:PT1H
X-Robots-Tag:noindex
X-PUBLISHED-TTL:PT1H
BEGIN:VTIMEZONE
TZID:Europe/Berlin
BEGIN:DAYLIGHT
TZOFFSETFROM:+0100
TZOFFSETTO:+0200
TZNAME:CEST
DTSTART:20240331T010000
END:DAYLIGHT
BEGIN:STANDARD
TZOFFSETFROM:+0200
TZOFFSETTO:+0100
TZNAME:CET
DTSTART:20241027T010000
END:STANDARD
END:VTIMEZONE
BEGIN:VEVENT
DTSTART;VALUE=DATE:20240513
DTEND;VALUE=DATE:20240518
DTSTAMP:20260426T034804
CREATED:20240320T090432Z
LAST-MODIFIED:20240812T123939Z
UID:1757-1715558400-1715990399@www.inverse-project.org
SUMMARY:2024 IEEE International Conference on Robotics and Automation
DESCRIPTION:The 2024 IEEE International Conference on Robotics and Automation (ICRA2024) is the IEEE Robotics and Automation Society’s flagship conference. The conference will be held from May 13th to 17th\, 2024\, in Yokohama\, Japan. This year’s conference theme is “CONNECT+\,” reflecting the conference’s aim of helping to build relationships and potential collaborations with participants within and outside their field of study. The port city of Yokohama is the symbol of Japan’s opening to the outside world\, and ICRA 2024 will become the symbol of Robotics’ opening to the new society with many other fields. ICRA brings together robotics researchers\, students and industrial partners from around the world to discuss the latest innovations and breakthroughs\, highlighting the role of robotics and automation in addressing global challenges. ICRA 2024 will include plenary and keynote sessions\, contributed paper sessions\, workshops and tutorial sessions\, forums\, expo and exhibitions from our corporate partners\, robot competitions and numerous social events.
URL:https://www.inverse-project.org/event/2024-ieee-international-conference-on-robotics-and-automation/
LOCATION:Pacific Convention Plaza Yokohama(PACIFICO Yokohama)\, 1-1-1\, Minato Mirai\,\, Yokohama\, Nishi-ku\, 220-0012\, Japan
CATEGORIES:Past events
ATTACH;FMTTYPE=image/png:https://www.inverse-project.org/wp-content/uploads/2024/03/ICRA-2024.png
END:VEVENT
END:VCALENDAR